BEGIN:VCALENDAR
VERSION:2.0
PRODID:-//Unitarian Universalist Fellowship of Lake Norman - ECPv6.14.2//NONSGML v1.0//EN
CALSCALE:GREGORIAN
METHOD:PUBLISH
X-ORIGINAL-URL:https://uulakenorman.org
X-WR-CALDESC:Events for Unitarian Universalist Fellowship of Lake Norman
REFRESH-INTERVAL;VALUE=DURATION:PT1H
X-Robots-Tag:noindex
X-PUBLISHED-TTL:PT1H
BEGIN:VTIMEZONE
TZID:UTC
BEGIN:STANDARD
TZOFFSETFROM:+0000
TZOFFSETTO:+0000
TZNAME:UTC
DTSTART:20260101T000000
END:STANDARD
END:VTIMEZONE
BEGIN:VEVENT
DTSTART;TZID=UTC:20260611T103000
DTEND;TZID=UTC:20260611T143000
DTSTAMP:20260420T083855
CREATED:20260402T180731Z
LAST-MODIFIED:20260402T180742Z
UID:5405-1781173800-1781188200@uulakenorman.org
SUMMARY:Meal Prep at FeedNC
DESCRIPTION:Meal prep at FeedNC is a great way to get to know UUs as we slice\, dice\, stir and bake to help Mooresville. Volunteers are needed. If you need more information or would like to let us know you can join us\, please let Jim Arnold know. You can reach him by email or by filling out a Contact Form.
URL:https://uulakenorman.org/event/meal-prep-at-feednc-11/
LOCATION:FeedNC\, 2456 Charlotte Hwy\, Mooresville\, North Carolina\, 28117\, United States
CATEGORIES:Volunteer
ATTACH;FMTTYPE=image/jpeg:https://uulakenorman.org/wp-content/uploads/2025/06/UUFLKN-PICTURES-FEED-NC-.jpg4_.jpg
END:VEVENT
BEGIN:VEVENT
DTSTART;TZID=UTC:20260611T140000
DTEND;TZID=UTC:20260611T160000
DTSTAMP:20260420T083855
CREATED:20260402T182810Z
LAST-MODIFIED:20260402T182816Z
UID:5422-1781186400-1781193600@uulakenorman.org
SUMMARY:Chalice Circle: Mooresville
DESCRIPTION:Every second Thursday (except July and August) \n\n\n\nSee Activities and Committees page on the website to see a description of chalice circles and contact information. \n\n\n\nChalice Circles are full for 2025-26\, but a sign-up opportunity will be in August 2026. We have four different groups with meeting locations in Mooresville\, Cornelius and Huntersville.
URL:https://uulakenorman.org/event/chalice-circle-mooresville-9/
CATEGORIES:Chalice Circle
END:VEVENT
END:VCALENDAR