BEGIN:VCALENDAR
VERSION:2.0
PRODID:-//Unitarian Universalist Fellowship of Lake Norman - ECPv6.14.2//NONSGML v1.0//EN
CALSCALE:GREGORIAN
METHOD:PUBLISH
X-ORIGINAL-URL:https://uulakenorman.org
X-WR-CALDESC:Events for Unitarian Universalist Fellowship of Lake Norman
REFRESH-INTERVAL;VALUE=DURATION:PT1H
X-Robots-Tag:noindex
X-PUBLISHED-TTL:PT1H
BEGIN:VTIMEZONE
TZID:UTC
BEGIN:STANDARD
TZOFFSETFROM:+0000
TZOFFSETTO:+0000
TZNAME:UTC
DTSTART:20260101T000000
END:STANDARD
END:VTIMEZONE
BEGIN:VEVENT
DTSTART;TZID=UTC:20260510T150000
DTEND;TZID=UTC:20260510T160000
DTSTAMP:20260423T081402
CREATED:20260402T170043Z
LAST-MODIFIED:20260402T170101Z
UID:5356-1778425200-1778428800@uulakenorman.org
SUMMARY:Sunday Service
DESCRIPTION:Visit us in person or watch online!
URL:https://uulakenorman.org/event/sunday-service-39/
LOCATION:The Unitarians of Lake Norman\, 625 South St.\, Davidson\, NC\, 28036\, United States
CATEGORIES:Worship
ATTACH;FMTTYPE=image/jpeg:https://uulakenorman.org/wp-content/uploads/2025/08/IMG_4624-scaled-e1759418439727.jpeg
END:VEVENT
BEGIN:VEVENT
DTSTART;TZID=UTC:20260510T163000
DTEND;TZID=UTC:20260510T180000
DTSTAMP:20260423T081402
CREATED:20260402T173502Z
LAST-MODIFIED:20260402T173508Z
UID:5371-1778430600-1778436000@uulakenorman.org
SUMMARY:Social Supper
DESCRIPTION:After services many of us go to a nearby restaurant for a casual dinner. Each week we announce the restaurant during the service. Great fellowship and you don’t have to cook!
URL:https://uulakenorman.org/event/social-supper-15/
CATEGORIES:Social Activity
END:VEVENT
END:VCALENDAR