BEGIN:VCALENDAR
VERSION:2.0
PRODID:-//Unitarian Universalist Fellowship of Lake Norman - ECPv6.14.2//NONSGML v1.0//EN
CALSCALE:GREGORIAN
METHOD:PUBLISH
X-WR-CALNAME:Unitarian Universalist Fellowship of Lake Norman
X-ORIGINAL-URL:https://uulakenorman.org
X-WR-CALDESC:Events for Unitarian Universalist Fellowship of Lake Norman
REFRESH-INTERVAL;VALUE=DURATION:PT1H
X-Robots-Tag:noindex
X-PUBLISHED-TTL:PT1H
BEGIN:VTIMEZONE
TZID:UTC
BEGIN:STANDARD
TZOFFSETFROM:+0000
TZOFFSETTO:+0000
TZNAME:UTC
DTSTART:20260101T000000
END:STANDARD
END:VTIMEZONE
BEGIN:VEVENT
DTSTART;TZID=UTC:20260405T150000
DTEND;TZID=UTC:20260405T160000
DTSTAMP:20260423T000638
CREATED:20260308T171333Z
LAST-MODIFIED:20260327T155437Z
UID:5280-1775401200-1775404800@uulakenorman.org
SUMMARY:Sunday Service
DESCRIPTION:Visit us in person or watch online! \n\n\n\nApril 5 – Rev. Pat Jobe: ‘The Last List Listing Toward The End’ \n\n\n\nOn April 5\, we will talk about preparing for the end of life. Having just attended a memorial service where the minister had high praise for the deceased making a good list\, this sounds like a very good idea.  \n\n\n\nDuring April\, we will hear from Karen Abrams and Ray Smith and others about our new Legacy Society. Stay tuned.
URL:https://uulakenorman.org/event/sunday-service-34/
LOCATION:The Unitarians of Lake Norman\, 625 South St.\, Davidson\, NC\, 28036\, United States
CATEGORIES:Worship
ATTACH;FMTTYPE=image/jpeg:https://uulakenorman.org/wp-content/uploads/2025/08/IMG_4624-scaled-e1759418439727.jpeg
END:VEVENT
BEGIN:VEVENT
DTSTART;TZID=UTC:20260405T163000
DTEND;TZID=UTC:20260405T180000
DTSTAMP:20260423T000638
CREATED:20260308T171832Z
LAST-MODIFIED:20260308T171837Z
UID:5288-1775406600-1775412000@uulakenorman.org
SUMMARY:Social Supper
DESCRIPTION:After services many of us go to a nearby restaurant for a casual dinner. Each week we announce the restaurant during the service. Great fellowship and you don’t have to cook!
URL:https://uulakenorman.org/event/social-supper-10/
CATEGORIES:Social Activity
END:VEVENT
END:VCALENDAR