BEGIN:VCALENDAR
VERSION:2.0
PRODID:-//Unitarian Universalist Fellowship of Lake Norman - ECPv6.14.2//NONSGML v1.0//EN
CALSCALE:GREGORIAN
METHOD:PUBLISH
X-WR-CALNAME:Unitarian Universalist Fellowship of Lake Norman
X-ORIGINAL-URL:https://uulakenorman.org
X-WR-CALDESC:Events for Unitarian Universalist Fellowship of Lake Norman
REFRESH-INTERVAL;VALUE=DURATION:PT1H
X-Robots-Tag:noindex
X-PUBLISHED-TTL:PT1H
BEGIN:VTIMEZONE
TZID:UTC
BEGIN:STANDARD
TZOFFSETFROM:+0000
TZOFFSETTO:+0000
TZNAME:UTC
DTSTART:20260101T000000
END:STANDARD
END:VTIMEZONE
BEGIN:VEVENT
DTSTART;TZID=UTC:20260322T150000
DTEND;TZID=UTC:20260322T160000
DTSTAMP:20260423T002844
CREATED:20260211T184519Z
LAST-MODIFIED:20260313T145315Z
UID:5184-1774191600-1774195200@uulakenorman.org
SUMMARY:Sunday Service
DESCRIPTION:Visit us in person or watch online! \n\n\n\nMarch 22 – Rev. Pat Jobe: ‘Rumi’s Field One More Time’ \n\n\n\nAfter explaining all in his March 8 sermon\, the Rev. says he’s willing to swing at that pitch again. Karen Abrams claimed to still be confused after the March 8 effort. Here we go again. On March 22\, we’ll go back to Rumi’s field out beyond ideas of right-doing and wrongdoing\, a place where even the phrase “each other” has no meaning. Of course\, it is confusing\, since our dualistic view of reality requires us to see things in terms not only of right and wrong\, but up and down\, cold and hot\, opposing poles around every corner. The Queen of Hearts may have believed as many as seven impossible things before breakfast\, but the rest of us have a more earth-bound\, practical\, level-headed series of tasks at hand. Rumi and the Rev. may just be driving us to distraction and that’s a hard row to hoe.
URL:https://uulakenorman.org/event/sunday-service-32/
LOCATION:The Unitarians of Lake Norman\, 625 South St.\, Davidson\, NC\, 28036\, United States
CATEGORIES:Worship
ATTACH;FMTTYPE=image/jpeg:https://uulakenorman.org/wp-content/uploads/2025/08/IMG_4624-scaled-e1759418439727.jpeg
END:VEVENT
BEGIN:VEVENT
DTSTART;TZID=UTC:20260322T163000
DTEND;TZID=UTC:20260322T180000
DTSTAMP:20260423T002844
CREATED:20260211T185114Z
LAST-MODIFIED:20260211T185121Z
UID:5194-1774197000-1774202400@uulakenorman.org
SUMMARY:Social Supper
DESCRIPTION:After services many of us go to a nearby restaurant for a casual dinner. Each week we announce the restaurant during the service. Great fellowship and you don’t have to cook!
URL:https://uulakenorman.org/event/social-supper-8/
CATEGORIES:Social Activity
END:VEVENT
END:VCALENDAR