BEGIN:VCALENDAR
VERSION:2.0
PRODID:-//Unitarian Universalist Fellowship of Lake Norman - ECPv6.14.2//NONSGML v1.0//EN
CALSCALE:GREGORIAN
METHOD:PUBLISH
X-WR-CALNAME:Unitarian Universalist Fellowship of Lake Norman
X-ORIGINAL-URL:https://uulakenorman.org
X-WR-CALDESC:Events for Unitarian Universalist Fellowship of Lake Norman
REFRESH-INTERVAL;VALUE=DURATION:PT1H
X-Robots-Tag:noindex
X-PUBLISHED-TTL:PT1H
BEGIN:VTIMEZONE
TZID:UTC
BEGIN:STANDARD
TZOFFSETFROM:+0000
TZOFFSETTO:+0000
TZNAME:UTC
DTSTART:20260101T000000
END:STANDARD
END:VTIMEZONE
BEGIN:VEVENT
DTSTART;TZID=UTC:20260301T150000
DTEND;TZID=UTC:20260301T160000
DTSTAMP:20260422T164346
CREATED:20260102T192041Z
LAST-MODIFIED:20260219T194307Z
UID:5036-1772377200-1772380800@uulakenorman.org
SUMMARY:Sunday Service
DESCRIPTION:Visit us in person or watch online! \n\n\n\nMarch 1 – Rev. Pat Jobe: ‘Are Birthdays Important?’ \n\n\n\nOn the day before Dr. Seuss’s birthday\, Rev. Pat will question our culture’s obsession with cake\, candles\, ice cream and noting the passing of another year. Smart aleck newspaper columnist Dave Barry once wrote\, “After about age eight\, birthdays really should not be all that important.” What do you think?
URL:https://uulakenorman.org/event/sunday-service-29/
LOCATION:The Unitarians of Lake Norman\, 625 South St.\, Davidson\, NC\, 28036\, United States
CATEGORIES:Worship
ATTACH;FMTTYPE=image/jpeg:https://uulakenorman.org/wp-content/uploads/2025/08/IMG_4624-scaled-e1759418439727.jpeg
END:VEVENT
BEGIN:VEVENT
DTSTART;TZID=UTC:20260301T160000
DTEND;TZID=UTC:20260301T173000
DTSTAMP:20260422T164346
CREATED:20260216T172158Z
LAST-MODIFIED:20260216T172534Z
UID:5204-1772380800-1772386200@uulakenorman.org
SUMMARY:Humanist Group Mtg
DESCRIPTION:The Humanist Group will have its quarterly meeting at the Davidson Quaker Meeting House on Sunday\, March 1. https://huumanists.org/local-groups/humanists-lake-norman \n\n\n\nProgram: Our guest is noted Humanist Michael Warner.  Michael has participated in many relevant UU and humanist organizations including as past president of the American Humanist Association.  He has spoken and taught widely in the cause of Humanism and humanistic values. His talk “An idea that counts”. \n\n\n\nA short\, informal social gathering with refreshments will precede the program. There will be an opportunity to join him for an informal dinner following his talk.
URL:https://uulakenorman.org/event/humanist-group-mtg-2/
LOCATION:The Unitarians of Lake Norman\, 625 South St.\, Davidson\, NC\, 28036\, United States
CATEGORIES:Worship
ATTACH;FMTTYPE=image/jpeg:https://uulakenorman.org/wp-content/uploads/2025/11/humanist-banner.jpg
END:VEVENT
BEGIN:VEVENT
DTSTART;TZID=UTC:20260301T163000
DTEND;TZID=UTC:20260301T180000
DTSTAMP:20260422T164346
CREATED:20260211T184826Z
LAST-MODIFIED:20260211T184831Z
UID:5188-1772382600-1772388000@uulakenorman.org
SUMMARY:Social Supper
DESCRIPTION:After services many of us go to a nearby restaurant for a casual dinner. Each week we announce the restaurant during the service. Great fellowship and you don’t have to cook!
URL:https://uulakenorman.org/event/social-supper-5/
CATEGORIES:Social Activity
END:VEVENT
END:VCALENDAR