BEGIN:VCALENDAR
VERSION:2.0
PRODID:-//Unitarian Universalist Fellowship of Lake Norman - ECPv6.14.2//NONSGML v1.0//EN
CALSCALE:GREGORIAN
METHOD:PUBLISH
X-ORIGINAL-URL:https://uulakenorman.org
X-WR-CALDESC:Events for Unitarian Universalist Fellowship of Lake Norman
REFRESH-INTERVAL;VALUE=DURATION:PT1H
X-Robots-Tag:noindex
X-PUBLISHED-TTL:PT1H
BEGIN:VTIMEZONE
TZID:UTC
BEGIN:STANDARD
TZOFFSETFROM:+0000
TZOFFSETTO:+0000
TZNAME:UTC
DTSTART:20260101T000000
END:STANDARD
END:VTIMEZONE
BEGIN:VEVENT
DTSTART;TZID=UTC:20260212T103000
DTEND;TZID=UTC:20260212T143000
DTSTAMP:20260421T094431
CREATED:20260102T192434Z
LAST-MODIFIED:20260102T192437Z
UID:5040-1770892200-1770906600@uulakenorman.org
SUMMARY:Meal Prep at FeedNC
DESCRIPTION:Meal prep at FeedNC is a great way to get to know UUs as we slice\, dice\, stir and bake to help Mooresville. Volunteers are needed. If you need more information or would like to let us know you can join us\, please let Jim Arnold know. You can reach him by email or by filling out a Contact Form.
URL:https://uulakenorman.org/event/meal-prep-at-feednc-7/
LOCATION:FeedNC\, 2456 Charlotte Hwy\, Mooresville\, North Carolina\, 28117\, United States
CATEGORIES:Volunteer
ATTACH;FMTTYPE=image/jpeg:https://uulakenorman.org/wp-content/uploads/2025/06/UUFLKN-PICTURES-FEED-NC-.jpg4_.jpg
END:VEVENT
BEGIN:VEVENT
DTSTART;TZID=UTC:20260212T140000
DTEND;TZID=UTC:20260212T160000
DTSTAMP:20260421T094431
CREATED:20260102T205251Z
LAST-MODIFIED:20260102T205255Z
UID:5064-1770904800-1770912000@uulakenorman.org
SUMMARY:Chalice Circle: Mooresville
DESCRIPTION:Every second Thursday (except July and August) \n\n\n\nSee Activities and Committees page on the website to see a description of chalice circles and contact information. \n\n\n\nChalice Circles are full for 2025-26\, but a sign-up opportunity will be in August 2026. We have four different groups with meeting locations in Mooresville\, Cornelius and Huntersville.
URL:https://uulakenorman.org/event/chalice-circle-mooresville-5/
CATEGORIES:Chalice Circle
END:VEVENT
END:VCALENDAR