BEGIN:VCALENDAR
VERSION:2.0
PRODID:-//Unitarian Universalist Fellowship of Lake Norman - ECPv6.14.2//NONSGML v1.0//EN
CALSCALE:GREGORIAN
METHOD:PUBLISH
X-ORIGINAL-URL:https://uulakenorman.org
X-WR-CALDESC:Events for Unitarian Universalist Fellowship of Lake Norman
REFRESH-INTERVAL;VALUE=DURATION:PT1H
X-Robots-Tag:noindex
X-PUBLISHED-TTL:PT1H
BEGIN:VTIMEZONE
TZID:UTC
BEGIN:STANDARD
TZOFFSETFROM:+0000
TZOFFSETTO:+0000
TZNAME:UTC
DTSTART:20250101T000000
END:STANDARD
END:VTIMEZONE
BEGIN:VEVENT
DTSTART;TZID=UTC:20251214T150000
DTEND;TZID=UTC:20251214T160000
DTSTAMP:20260424T162343
CREATED:20251113T195806Z
LAST-MODIFIED:20251204T141420Z
UID:4718-1765724400-1765728000@uulakenorman.org
SUMMARY:Sunday Service & Annual Meeting
DESCRIPTION:Visit us in person or watch online! \n\n\n\nDec. 14 – Rev. Pat Jobe: ‘How to End a Year Well’ \n\n\n\nPrior to our annual meeting\, Rev. Pat will riff on ending a year well with the help of Theresa Woody at the piano. How do you end things well? A day? A project? An event? Ending sometimes “puts a bow on things.” We all need good beginnings\, middles and ends. \n\n\n\nWe will be holding our annual meeting on Sunday\, Dec. 14\, following our regular service. There will be a short report of activities we participated in during the year and an election for the slate of officers for 2026. See Newsletter for the list of candidates.
URL:https://uulakenorman.org/event/sunday-service-18/
LOCATION:The Unitarians of Lake Norman\, 625 South St.\, Davidson\, NC\, 28036\, United States
CATEGORIES:Worship
ATTACH;FMTTYPE=image/jpeg:https://uulakenorman.org/wp-content/uploads/2025/08/IMG_4624-scaled-e1759418439727.jpeg
END:VEVENT
BEGIN:VEVENT
DTSTART;TZID=UTC:20251214T163000
DTEND;TZID=UTC:20251214T180000
DTSTAMP:20260424T162343
CREATED:20251115T144247Z
LAST-MODIFIED:20251209T175153Z
UID:4742-1765729800-1765735200@uulakenorman.org
SUMMARY:Social Supper
DESCRIPTION:After services many of us go to a nearby restaurant for a casual dinner. Each week we announce the restaurant during the service. Great fellowship and you don’t have to cook!
URL:https://uulakenorman.org/event/sunday-supper-18/
CATEGORIES:Social Activity
END:VEVENT
END:VCALENDAR