BEGIN:VCALENDAR
VERSION:2.0
PRODID:-//Unitarian Universalist Fellowship of Lake Norman - ECPv6.14.2//NONSGML v1.0//EN
CALSCALE:GREGORIAN
METHOD:PUBLISH
X-ORIGINAL-URL:https://uulakenorman.org
X-WR-CALDESC:Events for Unitarian Universalist Fellowship of Lake Norman
REFRESH-INTERVAL;VALUE=DURATION:PT1H
X-Robots-Tag:noindex
X-PUBLISHED-TTL:PT1H
BEGIN:VTIMEZONE
TZID:UTC
BEGIN:STANDARD
TZOFFSETFROM:+0000
TZOFFSETTO:+0000
TZNAME:UTC
DTSTART:20250101T000000
END:STANDARD
END:VTIMEZONE
BEGIN:VEVENT
DTSTART;TZID=UTC:20251123T150000
DTEND;TZID=UTC:20251123T160000
DTSTAMP:20260421T112137
CREATED:20251030T153502Z
LAST-MODIFIED:20251113T200853Z
UID:4534-1763910000-1763913600@uulakenorman.org
SUMMARY:Sunday Service & Share the Plate
DESCRIPTION:Visit us in person or watch online! \n\n\n\nNov. 23 – Rev. Pat Jobe: ‘Henri Nouwen and Reclaiming Childhood Hospitality’ \n\n\n\nIn preparing for the Day of The Dead service on Nov. 2\, I found Henri Nouwen’s words about reclaiming what was left behind as childhood had to adjust to the adult world. Among the lost treasures Nouwen recommends is childhood hospitality. Really? Now\, there’s something to think about\, ponder\, maybe even set as a goal for the days ahead. \n\n\n\nThis month’s “Share the Plate” will be to benefit Heart of the Carolina’s UU Animal Ministry. These are the good folk who build dog fences for pups who need to get off their chains.
URL:https://uulakenorman.org/event/sunday-service-15/
LOCATION:The Unitarians of Lake Norman\, 625 South St.\, Davidson\, NC\, 28036\, United States
CATEGORIES:Worship
ATTACH;FMTTYPE=image/jpeg:https://uulakenorman.org/wp-content/uploads/2025/08/IMG_4624-scaled-e1759418439727.jpeg
END:VEVENT
BEGIN:VEVENT
DTSTART;TZID=UTC:20251123T163000
DTEND;TZID=UTC:20251123T180000
DTSTAMP:20260421T112137
CREATED:20251105T003842Z
LAST-MODIFIED:20251105T003848Z
UID:4579-1763915400-1763920800@uulakenorman.org
SUMMARY:Sunday Supper
DESCRIPTION:After services many of us go to a nearby restaurant for a casual dinner. Each week we announce the restaurant during the service. Great fellowship and you don’t have to cook!
URL:https://uulakenorman.org/event/sunday-supper-15/
CATEGORIES:Social Activity
END:VEVENT
END:VCALENDAR