BEGIN:VCALENDAR
VERSION:2.0
PRODID:-//Unitarian Universalist Fellowship of Lake Norman - ECPv6.14.2//NONSGML v1.0//EN
CALSCALE:GREGORIAN
METHOD:PUBLISH
X-ORIGINAL-URL:https://uulakenorman.org
X-WR-CALDESC:Events for Unitarian Universalist Fellowship of Lake Norman
REFRESH-INTERVAL;VALUE=DURATION:PT1H
X-Robots-Tag:noindex
X-PUBLISHED-TTL:PT1H
BEGIN:VTIMEZONE
TZID:UTC
BEGIN:STANDARD
TZOFFSETFROM:+0000
TZOFFSETTO:+0000
TZNAME:UTC
DTSTART:20250101T000000
END:STANDARD
END:VTIMEZONE
BEGIN:VEVENT
DTSTART;TZID=UTC:20251116T100000
DTEND;TZID=UTC:20251116T170000
DTSTAMP:20260421T155426
CREATED:20251105T001716Z
LAST-MODIFIED:20251105T165533Z
UID:4562-1763287200-1763312400@uulakenorman.org
SUMMARY:Heart of the Carolinas UU Animal Ministry
DESCRIPTION:Heart of the Carolinas Animal Ministry is the group that does the Dog Fence Builds. We will have a booth at the Sheepdog Trials at Rural Hill both Saturday and Sunday. See our Facebook page: https://www.facebook.com/profile.php?id=100064825835871 \n\n\n\n\n2025 Sheepdog Trials and Dog Festival
URL:https://uulakenorman.org/event/heart-of-the-carolinas-uu-animal-ministry/
CATEGORIES:Special Events
ATTACH;FMTTYPE=image/jpeg:https://uulakenorman.org/wp-content/uploads/2025/11/Heart-of-Carolinas-banner.jpg
END:VEVENT
BEGIN:VEVENT
DTSTART;TZID=UTC:20251116T150000
DTEND;TZID=UTC:20251116T160000
DTSTAMP:20260421T155426
CREATED:20251018T171412Z
LAST-MODIFIED:20251113T195258Z
UID:4503-1763305200-1763308800@uulakenorman.org
SUMMARY:Sunday Service
DESCRIPTION:Visit us in person or watch online! \n\n\n\nNov. 16 – David Novak: ‘Rub a Dub Dub\, Three Men in a Tub: Who is in Charge Here?’ \n\n\n\nLegendary storyteller David Novak returns to our pulpit with an interactive presentation that is not to be missed! \n\n\n\nA storyteller and teaching artist\, David is artistic director of A Telling Experience\, telling stories to enrich discourse\, entertain imagination\, engage emotion\, and discover our common ground.  David’s 30-plus years’ experience includes a stint as Master Storyteller for The Disney Company\, tours for The Lincoln Center Institute\, L.A. Music Center\, and as a featured storyteller for the National Storytelling Festival\, as well as international appearances. He is a frequent speaker at The Mountain UU Retreat and Learning Center.
URL:https://uulakenorman.org/event/sunday-service-14/
LOCATION:The Unitarians of Lake Norman\, 625 South St.\, Davidson\, NC\, 28036\, United States
CATEGORIES:Worship
ATTACH;FMTTYPE=image/jpeg:https://uulakenorman.org/wp-content/uploads/2025/08/IMG_4624-scaled-e1759418439727.jpeg
END:VEVENT
BEGIN:VEVENT
DTSTART;TZID=UTC:20251116T163000
DTEND;TZID=UTC:20251116T180000
DTSTAMP:20260421T155426
CREATED:20251018T171620Z
LAST-MODIFIED:20251018T171630Z
UID:4505-1763310600-1763316000@uulakenorman.org
SUMMARY:Sunday Supper
DESCRIPTION:After services many of us go to a nearby restaurant for a casual dinner. Each week we announce the restaurant during the service. Great fellowship and you don’t have to cook!
URL:https://uulakenorman.org/event/sunday-supper-14/
CATEGORIES:Social Activity
END:VEVENT
END:VCALENDAR