BEGIN:VCALENDAR
VERSION:2.0
PRODID:-//Unitarian Universalist Fellowship of Lake Norman - ECPv6.14.2//NONSGML v1.0//EN
CALSCALE:GREGORIAN
METHOD:PUBLISH
X-WR-CALNAME:Unitarian Universalist Fellowship of Lake Norman
X-ORIGINAL-URL:https://uulakenorman.org
X-WR-CALDESC:Events for Unitarian Universalist Fellowship of Lake Norman
REFRESH-INTERVAL;VALUE=DURATION:PT1H
X-Robots-Tag:noindex
X-PUBLISHED-TTL:PT1H
BEGIN:VTIMEZONE
TZID:UTC
BEGIN:STANDARD
TZOFFSETFROM:+0000
TZOFFSETTO:+0000
TZNAME:UTC
DTSTART:20250101T000000
END:STANDARD
END:VTIMEZONE
BEGIN:VEVENT
DTSTART;TZID=UTC:20251104T001000
DTEND;TZID=UTC:20251104T001000
DTSTAMP:20260421T222254
CREATED:20251016T185951Z
LAST-MODIFIED:20251028T231312Z
UID:4473-1762215000-1762215000@uulakenorman.org
SUMMARY:Movie Tuesday
DESCRIPTION:We will go see After the Hunt at 12:10. https://youtu.be/sCC7iIMHq2U?si=QehTUD_gWM5cO1Jx Afterwards we go to a local restaurant for a snack and a discussion of the movie\, plus other socializing. Organized by Linda Heydenburg. You can reach her by email or by filling out a Contact Form.
URL:https://uulakenorman.org/event/movie-tuesday-12/
LOCATION:Regal Birkdale\, 16950 Birkdale Commons Pkwy\, Huntersville\, NC\, 28078\, United States
CATEGORIES:Social Activity
ATTACH;FMTTYPE=image/jpeg:https://uulakenorman.org/wp-content/uploads/2025/08/corina-rainer-9FDI-_E29fk-unsplash-scaled.jpg
END:VEVENT
END:VCALENDAR