BEGIN:VCALENDAR
VERSION:2.0
PRODID:-//Unitarian Universalist Fellowship of Lake Norman - ECPv6.14.2//NONSGML v1.0//EN
CALSCALE:GREGORIAN
METHOD:PUBLISH
X-WR-CALNAME:Unitarian Universalist Fellowship of Lake Norman
X-ORIGINAL-URL:https://uulakenorman.org
X-WR-CALDESC:Events for Unitarian Universalist Fellowship of Lake Norman
REFRESH-INTERVAL;VALUE=DURATION:PT1H
X-Robots-Tag:noindex
X-PUBLISHED-TTL:PT1H
BEGIN:VTIMEZONE
TZID:UTC
BEGIN:STANDARD
TZOFFSETFROM:+0000
TZOFFSETTO:+0000
TZNAME:UTC
DTSTART:20250101T000000
END:STANDARD
END:VTIMEZONE
BEGIN:VEVENT
DTSTART;TZID=UTC:20251019T150000
DTEND;TZID=UTC:20251019T160000
DTSTAMP:20260421T124253
CREATED:20250930T201311Z
LAST-MODIFIED:20251009T224809Z
UID:4377-1760886000-1760889600@uulakenorman.org
SUMMARY:Sunday Service
DESCRIPTION:Visit us in person or watch online! \n\n\n\nOct. 19 – Rev. Sonja Lee: ‘I Rise to …’ \n\n\n\nReverend Lee will delve into ancestral wisdom sayings related to our purpose. Texts will include excerpts from Maya Angelou’s poem\, Still I Rise. This will be an interactive presentation that includes audience participation.
URL:https://uulakenorman.org/event/sunday-service-10/
LOCATION:The Unitarians of Lake Norman\, 625 South St.\, Davidson\, NC\, 28036\, United States
CATEGORIES:Worship
ATTACH;FMTTYPE=image/jpeg:https://uulakenorman.org/wp-content/uploads/2025/08/IMG_4624-scaled-e1759418439727.jpeg
END:VEVENT
BEGIN:VEVENT
DTSTART;TZID=UTC:20251019T163000
DTEND;TZID=UTC:20251019T180000
DTSTAMP:20260421T124253
CREATED:20250930T201559Z
LAST-MODIFIED:20250930T201607Z
UID:4383-1760891400-1760896800@uulakenorman.org
SUMMARY:Sunday Supper
DESCRIPTION:After services many of us go to a nearby restaurant for a casual dinner. Each week we announce the restaurant during the service. Great fellowship and you don’t have to cook!
URL:https://uulakenorman.org/event/sunday-supper-10/
CATEGORIES:Social Activity
END:VEVENT
END:VCALENDAR