BEGIN:VCALENDAR
VERSION:2.0
PRODID:-//Unitarian Universalist Fellowship of Lake Norman - ECPv6.14.2//NONSGML v1.0//EN
CALSCALE:GREGORIAN
METHOD:PUBLISH
X-WR-CALNAME:Unitarian Universalist Fellowship of Lake Norman
X-ORIGINAL-URL:https://uulakenorman.org
X-WR-CALDESC:Events for Unitarian Universalist Fellowship of Lake Norman
REFRESH-INTERVAL;VALUE=DURATION:PT1H
X-Robots-Tag:noindex
X-PUBLISHED-TTL:PT1H
BEGIN:VTIMEZONE
TZID:UTC
BEGIN:STANDARD
TZOFFSETFROM:+0000
TZOFFSETTO:+0000
TZNAME:UTC
DTSTART:20250101T000000
END:STANDARD
END:VTIMEZONE
BEGIN:VEVENT
DTSTART;TZID=UTC:20251012T150000
DTEND;TZID=UTC:20251012T160000
DTSTAMP:20260421T124338
CREATED:20250930T201203Z
LAST-MODIFIED:20251009T225047Z
UID:4375-1760281200-1760284800@uulakenorman.org
SUMMARY:Sunday Service & Share the Plate & Spiritual Education
DESCRIPTION:Oct. 12 – Rev. Pat Jobe: ‘Indigenous Peoples’ Day’ \n\n\n\nTraditionally the U.S. has celebrated Columbus Day\, which is still its official name. Many of us\, who hope to shape new traditions\, call it Indigenous Peoples’ Day. What a wonderful idea. The landing of Columbus in the Caribbean began the hundreds of years of genocide that included insidious policies fostering hunger and limited opportunity well into the last century. Despite some progress\, Native Americans remain among the poorest of our fellow citizens. Yet their art\, poetry and craftsmanship remain inspiring and give great beauty to life. If you have native art or pottery\, please bring it with you on Oct. 12 and we’ll set up a show in the lobby of the Quaker Meeting House.  \n\n\n\nPlease\, please\, please if you have framed art or pottery or some other item that celebrates our native tribes\, please bring it on Sunday and we will use chairs and tables in the lobby to display them on Sunday. \n\n\n\nShare the Plate this month will be for Hospitality House. One year after Hurricane Helene hit the North Carolina mountains\, Hospitality House in Boone is still working with the victims within the seven counties it serves. The organization thanked UU Lake Norman for its generosity over the past year. Pat and Doug Wall will collect any donated items over the next two weeks and deliver them. Hospitality House still needs $10 gas cards from Speedway gas stations so clients can get to doctor appointments and work. They also need new pillows and bath towels\, low-temperature sleeping bags and small electric infrared heaters. \n\n\n\nSpiritual Education: Véronique Singerman and Kim Lucas will be offering a yoga routine for children and teens this Sunday that focuses on breath\, balance\, strength\, and flexibility. Please wear comfortable clothing and be ready to have fun!  \n\n\n\nVisit us in person or watch online!
URL:https://uulakenorman.org/event/sunday-service-9/
LOCATION:The Unitarians of Lake Norman\, 625 South St.\, Davidson\, NC\, 28036\, United States
CATEGORIES:Worship
ATTACH;FMTTYPE=image/jpeg:https://uulakenorman.org/wp-content/uploads/2025/08/IMG_4624-scaled-e1759418439727.jpeg
END:VEVENT
BEGIN:VEVENT
DTSTART;TZID=UTC:20251012T163000
DTEND;TZID=UTC:20251012T180000
DTSTAMP:20260421T124338
CREATED:20250930T201508Z
LAST-MODIFIED:20250930T201516Z
UID:4381-1760286600-1760292000@uulakenorman.org
SUMMARY:Sunday Supper
DESCRIPTION:After services many of us go to a nearby restaurant for a casual dinner. Each week we announce the restaurant during the service. Great fellowship and you don’t have to cook!
URL:https://uulakenorman.org/event/sunday-supper-9/
CATEGORIES:Social Activity
END:VEVENT
END:VCALENDAR