BEGIN:VCALENDAR
VERSION:2.0
PRODID:-//Unitarian Universalist Fellowship of Lake Norman - ECPv6.14.2//NONSGML v1.0//EN
CALSCALE:GREGORIAN
METHOD:PUBLISH
X-WR-CALNAME:Unitarian Universalist Fellowship of Lake Norman
X-ORIGINAL-URL:https://uulakenorman.org
X-WR-CALDESC:Events for Unitarian Universalist Fellowship of Lake Norman
REFRESH-INTERVAL;VALUE=DURATION:PT1H
X-Robots-Tag:noindex
X-PUBLISHED-TTL:PT1H
BEGIN:VTIMEZONE
TZID:UTC
BEGIN:STANDARD
TZOFFSETFROM:+0000
TZOFFSETTO:+0000
TZNAME:UTC
DTSTART:20250101T000000
END:STANDARD
END:VTIMEZONE
BEGIN:VEVENT
DTSTART;TZID=UTC:20251005T150000
DTEND;TZID=UTC:20251005T160000
DTSTAMP:20260421T141043
CREATED:20250919T135646Z
LAST-MODIFIED:20250925T180330Z
UID:4164-1759676400-1759680000@uulakenorman.org
SUMMARY:Sunday Service
DESCRIPTION:Visit us in person or watch online! \n\n\n\nOct. 5 – Rev. Pat Jobe: ‘We Couldn’t Park the Cars’ \n\n\n\nLet’s face it\, folks. If everybody knew how we handle issues of belief\, faith\, religious traditions\, justice and love\, we could not park the cars or seat the crowd. We may be the best-kept secret around. So many people come to UUism because it makes sense\, allows for a variety of beliefs\, embraces nonbelief and just gathers one more heck of a nice crowd. Join us on Oct. 5 to hear and learn more.
URL:https://uulakenorman.org/event/sunday-service-8/
LOCATION:The Unitarians of Lake Norman\, 625 South St.\, Davidson\, NC\, 28036\, United States
CATEGORIES:Worship
ATTACH;FMTTYPE=image/jpeg:https://uulakenorman.org/wp-content/uploads/2025/08/IMG_4624-scaled-e1759418439727.jpeg
END:VEVENT
BEGIN:VEVENT
DTSTART;TZID=UTC:20251005T163000
DTEND;TZID=UTC:20251005T180000
DTSTAMP:20260421T141043
CREATED:20250919T140004Z
LAST-MODIFIED:20250929T202607Z
UID:4168-1759681800-1759687200@uulakenorman.org
SUMMARY:Sunday Supper
DESCRIPTION:After services many of us go to a nearby restaurant for a casual dinner. Each week we announce the restaurant during the service. Great fellowship and you don’t have to cook!
URL:https://uulakenorman.org/event/sunday-supper-8/
CATEGORIES:Social Activity
END:VEVENT
END:VCALENDAR