BEGIN:VCALENDAR
VERSION:2.0
PRODID:-//Unitarian Universalist Fellowship of Lake Norman - ECPv6.14.2//NONSGML v1.0//EN
CALSCALE:GREGORIAN
METHOD:PUBLISH
X-ORIGINAL-URL:https://uulakenorman.org
X-WR-CALDESC:Events for Unitarian Universalist Fellowship of Lake Norman
REFRESH-INTERVAL;VALUE=DURATION:PT1H
X-Robots-Tag:noindex
X-PUBLISHED-TTL:PT1H
BEGIN:VTIMEZONE
TZID:UTC
BEGIN:STANDARD
TZOFFSETFROM:+0000
TZOFFSETTO:+0000
TZNAME:UTC
DTSTART:20250101T000000
END:STANDARD
END:VTIMEZONE
BEGIN:VEVENT
DTSTART;TZID=UTC:20250921T150000
DTEND;TZID=UTC:20250921T160000
DTSTAMP:20260422T081540
CREATED:20250826T130712Z
LAST-MODIFIED:20250919T135553Z
UID:3996-1758466800-1758470400@uulakenorman.org
SUMMARY:Sunday Service: Water Communion
DESCRIPTION:Visit us in person or watch online! \n\n\n\nSept. 21 – Rev. Pat Jobe: ‘The Sacredness of Water’ \n\n\n\nThough we don’t do it every year\, there is an annual tradition among many UU congregations to gather water in September as summer is over and a new season of gathering begins. We will bring water from travels or our own backyards or for those who don’t read the newsletter there will be cups in the lobby and you can gather a little at the Quaker meeting house. We will combine it in a large bowl and tell stories of our own lives\, families (at least two of us have become new grandparents in the past few months) travels or passions. After the ceremony\, we will pour the ritualized water at the base of a tree in the yard in the meeting house where we have gathered for the past four years. 
URL:https://uulakenorman.org/event/sunday-service-6/
LOCATION:The Unitarians of Lake Norman\, 625 South St.\, Davidson\, NC\, 28036\, United States
CATEGORIES:Worship
ATTACH;FMTTYPE=image/jpeg:https://uulakenorman.org/wp-content/uploads/2025/08/IMG_4624-scaled-e1759418439727.jpeg
END:VEVENT
BEGIN:VEVENT
DTSTART;TZID=UTC:20250921T163000
DTEND;TZID=UTC:20250921T180000
DTSTAMP:20260422T081540
CREATED:20250822T182405Z
LAST-MODIFIED:20250822T182408Z
UID:3982-1758472200-1758477600@uulakenorman.org
SUMMARY:Sunday Supper
DESCRIPTION:After services many of us go to a nearby restaurant for a casual dinner. Each week we announce the restaurant during the service. Great fellowship and you don’t have to cook! Apologies — not Free.
URL:https://uulakenorman.org/event/sunday-supper-6/
CATEGORIES:Social Activity
END:VEVENT
END:VCALENDAR