BEGIN:VCALENDAR
VERSION:2.0
PRODID:-//Unitarian Universalist Fellowship of Lake Norman - ECPv6.14.2//NONSGML v1.0//EN
CALSCALE:GREGORIAN
METHOD:PUBLISH
X-ORIGINAL-URL:https://uulakenorman.org
X-WR-CALDESC:Events for Unitarian Universalist Fellowship of Lake Norman
REFRESH-INTERVAL;VALUE=DURATION:PT1H
X-Robots-Tag:noindex
X-PUBLISHED-TTL:PT1H
BEGIN:VTIMEZONE
TZID:UTC
BEGIN:STANDARD
TZOFFSETFROM:+0000
TZOFFSETTO:+0000
TZNAME:UTC
DTSTART:20250101T000000
END:STANDARD
END:VTIMEZONE
BEGIN:VEVENT
DTSTART;TZID=UTC:20250920T090000
DTEND;TZID=UTC:20250920T090000
DTSTAMP:20260421T185709
CREATED:20250908T193711Z
LAST-MODIFIED:20250929T192653Z
UID:4049-1758358800-1758358800@uulakenorman.org
SUMMARY:Dog Fence Build
DESCRIPTION:We will be greatly expanding and reinforcing a fence we previously built for dogs who have moved on. These beauties (both neutered) males recently moved to NC. They are BIG dogs. \n\n\n\n9115 N Highway 10\, Vale\, NC
URL:https://uulakenorman.org/event/dog-fence-build-2/
CATEGORIES:Volunteer
ATTACH;FMTTYPE=image/jpeg:https://uulakenorman.org/wp-content/uploads/2025/06/UUFKLKN-PIctures-Another-Successful-Fence-Build-1.jpg
ORGANIZER;CN="Jim Price":MAILTO:admin@uulakenorman.org
END:VEVENT
BEGIN:VEVENT
DTSTART;TZID=UTC:20250920T103000
DTEND;TZID=UTC:20250920T103000
DTSTAMP:20260421T185709
CREATED:20250902T150457Z
LAST-MODIFIED:20250907T205504Z
UID:4020-1758364200-1758364200@uulakenorman.org
SUMMARY:Sun Day
DESCRIPTION:Sun Day is to celebrate the power of clean energy. https://www.sunday.earth/ \n\n\n\nThe clean energy revolution is here. Solar\, wind and batteries are the cheapest form of power on the planet\, lowering costs\, creating new jobs\, and strengthening our communities. But some politicians and industries are trying to hold it back. \n\n\n\nCharlotte Faiths 4 Climate Justice is hosting a Sun Day event on Saturday\, September 20th in Freedom Park in Charlotte. Join GreenFaith for a fun\, festive pilgrimage through the park sharing the importance of renewable energy for people and planet. This is part of a national effort with more than 300 events.  \n\n\n\nMeet by the train (East Blvd side). For more information\, email amy@greenfaith.org
URL:https://uulakenorman.org/event/sun-day/
CATEGORIES:Special Events
END:VEVENT
END:VCALENDAR