BEGIN:VCALENDAR
VERSION:2.0
PRODID:-//Unitarian Universalist Fellowship of Lake Norman - ECPv6.14.2//NONSGML v1.0//EN
CALSCALE:GREGORIAN
METHOD:PUBLISH
X-WR-CALNAME:Unitarian Universalist Fellowship of Lake Norman
X-ORIGINAL-URL:https://uulakenorman.org
X-WR-CALDESC:Events for Unitarian Universalist Fellowship of Lake Norman
REFRESH-INTERVAL;VALUE=DURATION:PT1H
X-Robots-Tag:noindex
X-PUBLISHED-TTL:PT1H
BEGIN:VTIMEZONE
TZID:UTC
BEGIN:STANDARD
TZOFFSETFROM:+0000
TZOFFSETTO:+0000
TZNAME:UTC
DTSTART:20250101T000000
END:STANDARD
END:VTIMEZONE
BEGIN:VEVENT
DTSTART;TZID=UTC:20250916T121500
DTEND;TZID=UTC:20250916T121500
DTSTAMP:20260422T033200
CREATED:20250822T023537Z
LAST-MODIFIED:20250916T212846Z
UID:3961-1758024900-1758024900@uulakenorman.org
SUMMARY:Movie Tuesday
DESCRIPTION:We will go to see Downton Abbey: The Grand Finale at 12:15. Afterwards we go to a local restaurant for a snack and a discussion of the movie\, plus other socializing. Specific show time TBA. Apologies — not Free.
URL:https://uulakenorman.org/event/movie-tuesday-5/
LOCATION:Regal Birkdale\, 16950 Birkdale Commons Pkwy\, Huntersville\, NC\, 28078\, United States
CATEGORIES:Social Activity
ATTACH;FMTTYPE=image/jpeg:https://uulakenorman.org/wp-content/uploads/2025/08/corina-rainer-9FDI-_E29fk-unsplash-scaled.jpg
ORGANIZER;CN="Linda Heydenburg":MAILTO:admin@uulakenorman.org
END:VEVENT
END:VCALENDAR