BEGIN:VCALENDAR
VERSION:2.0
PRODID:-//Unitarian Universalist Fellowship of Lake Norman - ECPv6.14.2//NONSGML v1.0//EN
CALSCALE:GREGORIAN
METHOD:PUBLISH
X-WR-CALNAME:Unitarian Universalist Fellowship of Lake Norman
X-ORIGINAL-URL:https://uulakenorman.org
X-WR-CALDESC:Events for Unitarian Universalist Fellowship of Lake Norman
REFRESH-INTERVAL;VALUE=DURATION:PT1H
X-Robots-Tag:noindex
X-PUBLISHED-TTL:PT1H
BEGIN:VTIMEZONE
TZID:UTC
BEGIN:STANDARD
TZOFFSETFROM:+0000
TZOFFSETTO:+0000
TZNAME:UTC
DTSTART:20250101T000000
END:STANDARD
END:VTIMEZONE
BEGIN:VEVENT
DTSTART;TZID=UTC:20250915T100000
DTEND;TZID=UTC:20250915T120000
DTSTAMP:20260422T033307
CREATED:20250909T211147Z
LAST-MODIFIED:20250914T130440Z
UID:4067-1757930400-1757937600@uulakenorman.org
SUMMARY:Chalice Circle: Cornelius West
DESCRIPTION:Every third Monday (except July and August) \n\n\n\nSee Activities and Committees page on the website to see a description of chalice circles and contact information. \n\n\n\nChalice Circles are full for 2025-26\, but a sign-up opportunity will be in August 2026. We have four different groups with meeting locations in Mooresville\, Cornelius and Huntersville.
URL:https://uulakenorman.org/event/chalice-circle-lh/
CATEGORIES:Chalice Circle
END:VEVENT
BEGIN:VEVENT
DTSTART;TZID=UTC:20250915T184500
DTEND;TZID=UTC:20250915T203000
DTSTAMP:20260422T033307
CREATED:20250909T210839Z
LAST-MODIFIED:20250914T130236Z
UID:4063-1757961900-1757968200@uulakenorman.org
SUMMARY:Chalice Circle: Huntersville
DESCRIPTION:Every third Monday (except July and August) \n\n\n\nSee Activities and Committees page on the website to see a description of chalice circles and contact information. \n\n\n\nChalice Circles are full for 2025-26\, but a sign-up opportunity will be in August 2026. We have four different groups with meeting locations in Mooresville\, Cornelius and Huntersville.
URL:https://uulakenorman.org/event/chalice-circle-jp/
CATEGORIES:Chalice Circle
END:VEVENT
END:VCALENDAR