BEGIN:VCALENDAR
VERSION:2.0
PRODID:-//Unitarian Universalist Fellowship of Lake Norman - ECPv6.14.2//NONSGML v1.0//EN
CALSCALE:GREGORIAN
METHOD:PUBLISH
X-WR-CALNAME:Unitarian Universalist Fellowship of Lake Norman
X-ORIGINAL-URL:https://uulakenorman.org
X-WR-CALDESC:Events for Unitarian Universalist Fellowship of Lake Norman
REFRESH-INTERVAL;VALUE=DURATION:PT1H
X-Robots-Tag:noindex
X-PUBLISHED-TTL:PT1H
BEGIN:VTIMEZONE
TZID:UTC
BEGIN:STANDARD
TZOFFSETFROM:+0000
TZOFFSETTO:+0000
TZNAME:UTC
DTSTART:20250101T000000
END:STANDARD
END:VTIMEZONE
BEGIN:VEVENT
DTSTART;TZID=UTC:20250913T093000
DTEND;TZID=UTC:20250913T110000
DTSTAMP:20260423T162326
CREATED:20250817T160322Z
LAST-MODIFIED:20250930T203559Z
UID:3857-1757755800-1757761200@uulakenorman.org
SUMMARY:Adopt-a-Highway
DESCRIPTION:Volunteers are needed for trash pickup on Concord road between Main Street and the traffic circle. The N.C. Department of Transportation has recognized Unitarians of Lake Norman for 15 years of service to the program. Gathering place TBA. Organized by Jim Arnold. You can reach him by email or by filling out a Contact Form.
URL:https://uulakenorman.org/event/adopt-a-highway-2/
CATEGORIES:Volunteer
ATTACH;FMTTYPE=image/jpeg:https://uulakenorman.org/wp-content/uploads/2025/06/UUFLKN-social-action-trash-pick-up.jpg
END:VEVENT
END:VCALENDAR