BEGIN:VCALENDAR
VERSION:2.0
PRODID:-//Unitarian Universalist Fellowship of Lake Norman - ECPv6.14.2//NONSGML v1.0//EN
CALSCALE:GREGORIAN
METHOD:PUBLISH
X-WR-CALNAME:Unitarian Universalist Fellowship of Lake Norman
X-ORIGINAL-URL:https://uulakenorman.org
X-WR-CALDESC:Events for Unitarian Universalist Fellowship of Lake Norman
REFRESH-INTERVAL;VALUE=DURATION:PT1H
X-Robots-Tag:noindex
X-PUBLISHED-TTL:PT1H
BEGIN:VTIMEZONE
TZID:UTC
BEGIN:STANDARD
TZOFFSETFROM:+0000
TZOFFSETTO:+0000
TZNAME:UTC
DTSTART:20250101T000000
END:STANDARD
END:VTIMEZONE
BEGIN:VEVENT
DTSTART;TZID=UTC:20250907T150000
DTEND;TZID=UTC:20250907T160000
DTSTAMP:20260422T143050
CREATED:20250812T222503Z
LAST-MODIFIED:20250905T175843Z
UID:3749-1757257200-1757260800@uulakenorman.org
SUMMARY:Sunday Service & Spiritual Education
DESCRIPTION:Visit us in person or watch online! \n\n\n\nSept. 7 – Rev. Pat Jobe: ‘Seeking Inner Guidance\, Stillness\, a Way Forward’ \n\n\n\nThere is a really challenging concept out there among teachers and book writers and that crowd that the world is touched\, influenced\, maybe changed for the better by the work we do inwardly as well as outwardly. Does it help to listen for inner guidance? \n\n\n\nSpiritual Education: Our spiritual educators for the kids this Sunday will be Claudia and Alan Perkinson. They do a great job and have been particularly inspiring in stressing the value of the chalice lighting and leading the kids in Joys and Sorrows. Powerful stuff.  
URL:https://uulakenorman.org/event/sunday-service-2/
LOCATION:The Unitarians of Lake Norman\, 625 South St.\, Davidson\, NC\, 28036\, United States
CATEGORIES:Worship
ATTACH;FMTTYPE=image/jpeg:https://uulakenorman.org/wp-content/uploads/2025/08/IMG_4624-scaled-e1759418439727.jpeg
END:VEVENT
BEGIN:VEVENT
DTSTART;TZID=UTC:20250907T163000
DTEND;TZID=UTC:20250907T180000
DTSTAMP:20260422T143050
CREATED:20250822T022745Z
LAST-MODIFIED:20250822T022922Z
UID:3952-1757262600-1757268000@uulakenorman.org
SUMMARY:Sunday Supper
DESCRIPTION:After services many of us go to a nearby restaurant for a casual dinner. Each week we announce the restaurant during the service. Great fellowship and you don’t have to cook! Apologies — not Free.
URL:https://uulakenorman.org/event/sunday-supper-4/
CATEGORIES:Social Activity
END:VEVENT
BEGIN:VEVENT
DTSTART;TZID=UTC:20250907T163000
DTEND;TZID=UTC:20250907T180000
DTSTAMP:20260422T143050
CREATED:20250826T130004Z
LAST-MODIFIED:20250905T180133Z
UID:3988-1757262600-1757268000@uulakenorman.org
SUMMARY:Humanist Group Mtg
DESCRIPTION:The Humanist Group will have its quarterly meeting at the Davidson Quaker Meeting House on Sunday\, Sept. 7. Rev. Amy Brooks of GreenFaith\, an interdenominational ecology group\, will be the guest speaker in advance of Sun Day\, a celebration of clean energy\, to be observed Sept. 19-21.
URL:https://uulakenorman.org/event/humanist-service/
LOCATION:The Unitarians of Lake Norman\, 625 South St.\, Davidson\, NC\, 28036\, United States
CATEGORIES:Worship
ATTACH;FMTTYPE=image/jpeg:https://uulakenorman.org/wp-content/uploads/2025/08/IMG_4624-scaled-e1759418439727.jpeg
END:VEVENT
END:VCALENDAR