BEGIN:VCALENDAR
VERSION:2.0
PRODID:-//Unitarian Universalist Fellowship of Lake Norman - ECPv6.14.2//NONSGML v1.0//EN
CALSCALE:GREGORIAN
METHOD:PUBLISH
X-WR-CALNAME:Unitarian Universalist Fellowship of Lake Norman
X-ORIGINAL-URL:https://uulakenorman.org
X-WR-CALDESC:Events for Unitarian Universalist Fellowship of Lake Norman
REFRESH-INTERVAL;VALUE=DURATION:PT1H
X-Robots-Tag:noindex
X-PUBLISHED-TTL:PT1H
BEGIN:VTIMEZONE
TZID:UTC
BEGIN:STANDARD
TZOFFSETFROM:+0000
TZOFFSETTO:+0000
TZNAME:UTC
DTSTART:20250101T000000
END:STANDARD
END:VTIMEZONE
BEGIN:VEVENT
DTSTART;TZID=UTC:20250906T090000
DTEND;TZID=UTC:20250906T090000
DTSTAMP:20260421T202222
CREATED:20250905T182726Z
LAST-MODIFIED:20250929T205818Z
UID:4041-1757149200-1757149200@uulakenorman.org
SUMMARY:Dog Fence Build
DESCRIPTION: Hi humans: My name is Onyx. I am 17 weeks old and really need a place where I can safely zoom around and run off some of my puppy energy. Come to the Heart of the Carolinas UU Animal Ministry’s fence build this Saturday so you can purchase a green shirt and join the team. I’ve been told that all the tools you need will be provided; if you do not know what to do\, one of these nice humans will teach you how we build a fence.  Love\, Onyx   \n\n\n\n9 AM at 3790 Oakwood Circle\, Iron Station\, NC
URL:https://uulakenorman.org/event/dog-fence-build/
CATEGORIES:Volunteer
ATTACH;FMTTYPE=image/jpeg:https://uulakenorman.org/wp-content/uploads/2025/06/UUFKLKN-PIctures-Another-Successful-Fence-Build-1.jpg
ORGANIZER;CN="Jim Price":MAILTO:admin@uulakenorman.org
END:VEVENT
END:VCALENDAR